BEGIN:VCALENDAR
VERSION:2.0
PRODID:-//Gommersdorf - ECPv6.15.20//NONSGML v1.0//EN
CALSCALE:GREGORIAN
METHOD:PUBLISH
X-WR-CALNAME:Gommersdorf
X-ORIGINAL-URL:https://gommersdorf.de
X-WR-CALDESC:Veranstaltungen für Gommersdorf
REFRESH-INTERVAL;VALUE=DURATION:PT1H
X-Robots-Tag:noindex
X-PUBLISHED-TTL:PT1H
BEGIN:VTIMEZONE
TZID:Europe/Paris
BEGIN:DAYLIGHT
TZOFFSETFROM:+0100
TZOFFSETTO:+0200
TZNAME:CEST
DTSTART:20250330T010000
END:DAYLIGHT
BEGIN:STANDARD
TZOFFSETFROM:+0200
TZOFFSETTO:+0100
TZNAME:CET
DTSTART:20251026T010000
END:STANDARD
BEGIN:DAYLIGHT
TZOFFSETFROM:+0100
TZOFFSETTO:+0200
TZNAME:CEST
DTSTART:20260329T010000
END:DAYLIGHT
BEGIN:STANDARD
TZOFFSETFROM:+0200
TZOFFSETTO:+0100
TZNAME:CET
DTSTART:20261025T010000
END:STANDARD
BEGIN:DAYLIGHT
TZOFFSETFROM:+0100
TZOFFSETTO:+0200
TZNAME:CEST
DTSTART:20270328T010000
END:DAYLIGHT
BEGIN:STANDARD
TZOFFSETFROM:+0200
TZOFFSETTO:+0100
TZNAME:CET
DTSTART:20271031T010000
END:STANDARD
END:VTIMEZONE
BEGIN:VEVENT
DTSTART;VALUE=DATE:20260426
DTEND;VALUE=DATE:20260427
DTSTAMP:20260421T163025
CREATED:20251218T062754Z
LAST-MODIFIED:20260207T101008Z
UID:671-1777161600-1777247999@gommersdorf.de
SUMMARY:Pflanzentauschbörse
DESCRIPTION:
URL:https://gommersdorf.de/event/pflanzentauschboerse/
LOCATION:Turnhalle Gommersdorf\, Brückenstraße 9\, Gommersdorf\, Baden-Württemberg\, 74238\, Germany
END:VEVENT
BEGIN:VEVENT
DTSTART;TZID=Europe/Paris:20260426T100000
DTEND;TZID=Europe/Paris:20260426T120000
DTSTAMP:20260421T163025
CREATED:20260403T072925Z
LAST-MODIFIED:20260403T072925Z
UID:796-1777197600-1777204800@gommersdorf.de
SUMMARY:Pflanzen-Tauschbörse
DESCRIPTION:
URL:https://gommersdorf.de/event/pflanzen-tauschboerse/
LOCATION:Pfarrgarten Gommersdorf\, Pfarrgasse 3\, Gommersdorf\, Baden-Württemberg\, 74238\, Germany
END:VEVENT
END:VCALENDAR