BEGIN:VCALENDAR
VERSION:2.0
PRODID:-//Gommersdorf - ECPv6.15.20//NONSGML v1.0//EN
CALSCALE:GREGORIAN
METHOD:PUBLISH
X-WR-CALNAME:Gommersdorf
X-ORIGINAL-URL:https://gommersdorf.de
X-WR-CALDESC:Veranstaltungen für Gommersdorf
REFRESH-INTERVAL;VALUE=DURATION:PT1H
X-Robots-Tag:noindex
X-PUBLISHED-TTL:PT1H
BEGIN:VTIMEZONE
TZID:Europe/Paris
BEGIN:DAYLIGHT
TZOFFSETFROM:+0100
TZOFFSETTO:+0200
TZNAME:CEST
DTSTART:20250330T010000
END:DAYLIGHT
BEGIN:STANDARD
TZOFFSETFROM:+0200
TZOFFSETTO:+0100
TZNAME:CET
DTSTART:20251026T010000
END:STANDARD
BEGIN:DAYLIGHT
TZOFFSETFROM:+0100
TZOFFSETTO:+0200
TZNAME:CEST
DTSTART:20260329T010000
END:DAYLIGHT
BEGIN:STANDARD
TZOFFSETFROM:+0200
TZOFFSETTO:+0100
TZNAME:CET
DTSTART:20261025T010000
END:STANDARD
BEGIN:DAYLIGHT
TZOFFSETFROM:+0100
TZOFFSETTO:+0200
TZNAME:CEST
DTSTART:20270328T010000
END:DAYLIGHT
BEGIN:STANDARD
TZOFFSETFROM:+0200
TZOFFSETTO:+0100
TZNAME:CET
DTSTART:20271031T010000
END:STANDARD
BEGIN:DAYLIGHT
TZOFFSETFROM:+0100
TZOFFSETTO:+0200
TZNAME:CEST
DTSTART:20280326T010000
END:DAYLIGHT
BEGIN:STANDARD
TZOFFSETFROM:+0200
TZOFFSETTO:+0100
TZNAME:CET
DTSTART:20281029T010000
END:STANDARD
END:VTIMEZONE
BEGIN:VEVENT
DTSTART;VALUE=DATE:20260426
DTEND;VALUE=DATE:20260427
DTSTAMP:20260421T120029
CREATED:20251218T062754Z
LAST-MODIFIED:20260207T101008Z
UID:671-1777161600-1777247999@gommersdorf.de
SUMMARY:Pflanzentauschbörse
DESCRIPTION:
URL:https://gommersdorf.de/event/pflanzentauschboerse/
LOCATION:Turnhalle Gommersdorf\, Brückenstraße 9\, Gommersdorf\, Baden-Württemberg\, 74238\, Germany
END:VEVENT
BEGIN:VEVENT
DTSTART;TZID=Europe/Paris:20260426T100000
DTEND;TZID=Europe/Paris:20260426T120000
DTSTAMP:20260421T120029
CREATED:20260403T072925Z
LAST-MODIFIED:20260403T072925Z
UID:796-1777197600-1777204800@gommersdorf.de
SUMMARY:Pflanzen-Tauschbörse
DESCRIPTION:
URL:https://gommersdorf.de/event/pflanzen-tauschboerse/
LOCATION:Pfarrgarten Gommersdorf\, Pfarrgasse 3\, Gommersdorf\, Baden-Württemberg\, 74238\, Germany
END:VEVENT
BEGIN:VEVENT
DTSTART;VALUE=DATE:20260430
DTEND;VALUE=DATE:20260501
DTSTAMP:20260421T120029
CREATED:20251218T062833Z
LAST-MODIFIED:20251218T062833Z
UID:673-1777507200-1777593599@gommersdorf.de
SUMMARY:Maifest
DESCRIPTION:
URL:https://gommersdorf.de/event/maifest/
LOCATION:„Alte Schule“ Gommersdorf\, Hauptstraße 11\, Gommersdorf\, Baden-Württemberg\, 74238\, Germany
END:VEVENT
BEGIN:VEVENT
DTSTART;VALUE=DATE:20260509
DTEND;VALUE=DATE:20260511
DTSTAMP:20260421T120029
CREATED:20251218T062936Z
LAST-MODIFIED:20251218T062936Z
UID:675-1778284800-1778457599@gommersdorf.de
SUMMARY:Jagsttal Wiesen Wanderung
DESCRIPTION:
URL:https://gommersdorf.de/event/jagsttal-wiesen-wanderung/
LOCATION:Baden-Württemberg
END:VEVENT
BEGIN:VEVENT
DTSTART;VALUE=DATE:20260517
DTEND;VALUE=DATE:20260518
DTSTAMP:20260421T120029
CREATED:20251128T045115Z
LAST-MODIFIED:20251128T045115Z
UID:644-1778976000-1779062399@gommersdorf.de
SUMMARY:VfR Familientag zum 80-jährigen Jubiläum
DESCRIPTION:
URL:https://gommersdorf.de/event/vfr-familientag-zum-80-jaehrigen-jubilaeum/
LOCATION:Sportheim Gommersdorf\, Im Stichele\, Gommersdorf\, Baden-Württemberg\, 74238\, Germany
END:VEVENT
BEGIN:VEVENT
DTSTART;VALUE=DATE:20260606
DTEND;VALUE=DATE:20260607
DTSTAMP:20260421T120029
CREATED:20251218T063007Z
LAST-MODIFIED:20251218T063007Z
UID:677-1780704000-1780790399@gommersdorf.de
SUMMARY:Schleppertreffen
DESCRIPTION:
URL:https://gommersdorf.de/event/schleppertreffen/
LOCATION:Butzberg Gommersdorf\, Zum Butzberg\, Gommersdorf\, Baden-Württemberg\, 74238\, Germany
END:VEVENT
BEGIN:VEVENT
DTSTART;VALUE=DATE:20260607
DTEND;VALUE=DATE:20260608
DTSTAMP:20260421T120029
CREATED:20251218T063052Z
LAST-MODIFIED:20251218T063052Z
UID:679-1780790400-1780876799@gommersdorf.de
SUMMARY:Weißwurstfrühstuck
DESCRIPTION:
URL:https://gommersdorf.de/event/weisswurstfruehstuck/
LOCATION:Kindergarten Gommersdorf
END:VEVENT
BEGIN:VEVENT
DTSTART;VALUE=DATE:20260711
DTEND;VALUE=DATE:20260712
DTSTAMP:20260421T120029
CREATED:20251218T063727Z
LAST-MODIFIED:20251218T063727Z
UID:692-1783728000-1783814399@gommersdorf.de
SUMMARY:Ausflug Frauengemeinschaft Gommersdorf
DESCRIPTION:
URL:https://gommersdorf.de/event/ausflug-frauengemeinschaft-gommersdorf/
LOCATION:Baden-Württemberg
END:VEVENT
BEGIN:VEVENT
DTSTART;VALUE=DATE:20260717
DTEND;VALUE=DATE:20260720
DTSTAMP:20260421T120029
CREATED:20251128T045147Z
LAST-MODIFIED:20251128T045147Z
UID:646-1784246400-1784505599@gommersdorf.de
SUMMARY:VfR Sportfest
DESCRIPTION:
URL:https://gommersdorf.de/event/vfr-sportfest/
LOCATION:Sportheim Gommersdorf\, Im Stichele\, Gommersdorf\, Baden-Württemberg\, 74238\, Germany
END:VEVENT
BEGIN:VEVENT
DTSTART;VALUE=DATE:20260911
DTEND;VALUE=DATE:20260914
DTSTAMP:20260421T120029
CREATED:20250617T040834Z
LAST-MODIFIED:20250617T040834Z
UID:601-1789084800-1789343999@gommersdorf.de
SUMMARY:Dorffest - 850 Jahre Gommersdorf
DESCRIPTION:
URL:https://gommersdorf.de/event/dorffest-850-jahre-gommersdorf/
LOCATION:Baden-Württemberg
END:VEVENT
BEGIN:VEVENT
DTSTART;VALUE=DATE:20260919
DTEND;VALUE=DATE:20260920
DTSTAMP:20260421T120029
CREATED:20251218T063503Z
LAST-MODIFIED:20251218T063503Z
UID:688-1789776000-1789862399@gommersdorf.de
SUMMARY:Herbstwanderung
DESCRIPTION:
URL:https://gommersdorf.de/event/herbstwanderung/
LOCATION:Baden-Württemberg
END:VEVENT
BEGIN:VEVENT
DTSTART;VALUE=DATE:20261002
DTEND;VALUE=DATE:20261004
DTSTAMP:20260421T120029
CREATED:20251218T063823Z
LAST-MODIFIED:20251218T063823Z
UID:694-1790899200-1791071999@gommersdorf.de
SUMMARY:Tanz in die deutsche Einheit
DESCRIPTION:
URL:https://gommersdorf.de/event/tanz-in-die-deutsche-einheit/
LOCATION:Turnhalle Gommersdorf\, Brückenstraße 9\, Gommersdorf\, Baden-Württemberg\, 74238\, Germany
END:VEVENT
BEGIN:VEVENT
DTSTART;VALUE=DATE:20261108
DTEND;VALUE=DATE:20261109
DTSTAMP:20260421T120029
CREATED:20251218T064007Z
LAST-MODIFIED:20251218T064007Z
UID:698-1794096000-1794182399@gommersdorf.de
SUMMARY:Kleidertauschbörse
DESCRIPTION:
URL:https://gommersdorf.de/event/kleidertauschboerse/
LOCATION:Turnhalle Gommersdorf\, Brückenstraße 9\, Gommersdorf\, Baden-Württemberg\, 74238\, Germany
END:VEVENT
BEGIN:VEVENT
DTSTART;VALUE=DATE:20261114
DTEND;VALUE=DATE:20261115
DTSTAMP:20260421T120029
CREATED:20251218T063925Z
LAST-MODIFIED:20251218T063925Z
UID:696-1794614400-1794700799@gommersdorf.de
SUMMARY:Pflanzung Jubiläumswald
DESCRIPTION:
URL:https://gommersdorf.de/event/pflanzung-jubilaeumswald/
LOCATION:Baden-Württemberg
END:VEVENT
BEGIN:VEVENT
DTSTART;VALUE=DATE:20261127
DTEND;VALUE=DATE:20261128
DTSTAMP:20260421T120029
CREATED:20251218T064049Z
LAST-MODIFIED:20251218T064049Z
UID:700-1795737600-1795823999@gommersdorf.de
SUMMARY:Weihnachtsmarkt Klosterhof
DESCRIPTION:
URL:https://gommersdorf.de/event/weihnachtsmarkt-klosterhof/
LOCATION:Klosterhof Gommersdorf\, Rathaussstraße 19\, Gommersdorf\, Baden-Württemberg\, 74238\, Germany
END:VEVENT
BEGIN:VEVENT
DTSTART;VALUE=DATE:20261128
DTEND;VALUE=DATE:20261129
DTSTAMP:20260421T120029
CREATED:20251218T064128Z
LAST-MODIFIED:20251218T064128Z
UID:703-1795824000-1795910399@gommersdorf.de
SUMMARY:Weihnachftsmarktfahrt
DESCRIPTION:
URL:https://gommersdorf.de/event/weihnachftsmarktfahrt/
LOCATION:Baden-Württemberg
END:VEVENT
BEGIN:VEVENT
DTSTART;VALUE=DATE:20261129
DTEND;VALUE=DATE:20270118
DTSTAMP:20260421T120029
CREATED:20251218T064210Z
LAST-MODIFIED:20251218T064210Z
UID:705-1795910400-1800230399@gommersdorf.de
SUMMARY:Eröffnung Weihnachftspfad
DESCRIPTION:
URL:https://gommersdorf.de/event/eroeffnung-weihnachftspfad/
LOCATION:Baden-Württemberg
END:VEVENT
BEGIN:VEVENT
DTSTART;TZID=Europe/Paris:20261205T080000
DTEND;TZID=Europe/Paris:20261205T170000
DTSTAMP:20260421T120029
CREATED:20251218T064257Z
LAST-MODIFIED:20251218T064257Z
UID:707-1796457600-1796490000@gommersdorf.de
SUMMARY:Adventsfeier
DESCRIPTION:
URL:https://gommersdorf.de/event/adventsfeier/
LOCATION:Pfarrkeller Gommersdorf\, Pfarrgasse 3\, Gommersdorf\, Baden-Württemberg\, 74238\, Germany
END:VEVENT
BEGIN:VEVENT
DTSTART;VALUE=DATE:20261212
DTEND;VALUE=DATE:20261213
DTSTAMP:20260421T120029
CREATED:20251218T064359Z
LAST-MODIFIED:20251218T064359Z
UID:709-1797033600-1797119999@gommersdorf.de
SUMMARY:Weihnachftsbaumverkauf
DESCRIPTION:
URL:https://gommersdorf.de/event/weihnachftsbaumverkauf/
LOCATION:Fischervereinsheim Gommersdorf\, Brückenstraße 3\, Gommersdorf\, Baden-Württemberg\, 74238\, Germany
END:VEVENT
BEGIN:VEVENT
DTSTART;VALUE=DATE:20261219
DTEND;VALUE=DATE:20261220
DTSTAMP:20260421T120029
CREATED:20251218T064434Z
LAST-MODIFIED:20251218T064434Z
UID:712-1797638400-1797724799@gommersdorf.de
SUMMARY:Weihnachftskonzert BLK Gommersdorf
DESCRIPTION:
URL:https://gommersdorf.de/event/weihnachftskonzert-blk-gommersdorf/
LOCATION:Turnhalle Gommersdorf\, Brückenstraße 9\, Gommersdorf\, Baden-Württemberg\, 74238\, Germany
END:VEVENT
BEGIN:VEVENT
DTSTART;VALUE=DATE:20261226
DTEND;VALUE=DATE:20261227
DTSTAMP:20260421T120029
CREATED:20251218T064520Z
LAST-MODIFIED:20251218T064520Z
UID:714-1798243200-1798329599@gommersdorf.de
SUMMARY:Weihnachtskonzert Gesangsverein Frohsinn Gommersdorf
DESCRIPTION:
URL:https://gommersdorf.de/event/weihnachtskonzert-gesangsverein-frohsinn-gommersdorf/
LOCATION:Kirche St. Johann Gommersdorf\, Gommersdorf\, 74238\, Germany
END:VEVENT
END:VCALENDAR